BEGIN:VCALENDAR
VERSION:2.0
METHOD:PUBLISH
X-WR-CALNAME: Kalendář | sudokualogika.cz
PRODID:-//Drupal iCal API//EN
BEGIN:VEVENT
UID:calendar.3000.field_datumakce.0.0
SUMMARY:Puzzle GP 4 (Německo): součást HALAS ligy
DTSTAMP:20260420T102236Z
DTSTART:20260424T100000Z
DTEND:20260429T215900Z
URL;VALUE=URI:https://www.sudokualogika.cz/node/3000
END:VEVENT
BEGIN:VEVENT
UID:calendar.3010.field_datumakce.0.1
SUMMARY:Mistrovství Evropy v sudoku (Bratislava)
DTSTAMP:20260420T102236Z
DTSTART:20260507T070000Z
DTEND:20260508T160000Z
URL;VALUE=URI:https://www.sudokualogika.cz/node/3010
END:VEVENT
BEGIN:VEVENT
UID:calendar.3001.field_datumakce.0.2
SUMMARY:Sudoku GP 5 (Ukrajina)
DTSTAMP:20260420T102236Z
DTSTART:20260515T100000Z
DTEND:20260520T215900Z
URL;VALUE=URI:https://www.sudokualogika.cz/node/3001
END:VEVENT
BEGIN:VEVENT
UID:calendar.3003.field_datumakce.0.3
SUMMARY:Puzzle GP 5 (Japonsko): součást HALAS ligy
DTSTAMP:20260420T102236Z
DTSTART:20260529T100000Z
DTEND:20260603T215900Z
URL;VALUE=URI:https://www.sudokualogika.cz/node/3003
END:VEVENT
BEGIN:VEVENT
UID:calendar.3004.field_datumakce.0.4
SUMMARY:Sudoku GP 6 (Česko)
DTSTAMP:20260420T102236Z
DTSTART:20260612T100000Z
DTEND:20260617T215900Z
URL;VALUE=URI:https://www.sudokualogika.cz/node/3004
END:VEVENT
BEGIN:VEVENT
UID:calendar.3024.field_datumakce.0.5
SUMMARY:Mistrovství ČR v logických úlohách 2026
DTSTAMP:20260420T102236Z
DTSTART:20260613T080000Z
DTEND:20260614T140000Z
URL;VALUE=URI:https://www.sudokualogika.cz/node/3024
END:VEVENT
BEGIN:VEVENT
UID:calendar.3005.field_datumakce.0.6
SUMMARY:Puzzle GP 6 (Nizozemsko)
DTSTAMP:20260420T102236Z
DTSTART:20260626T100000Z
DTEND:20260701T215900Z
URL;VALUE=URI:https://www.sudokualogika.cz/node/3005
END:VEVENT
BEGIN:VEVENT
UID:calendar.3006.field_datumakce.0.7
SUMMARY:Sudoku GP 7 (Maďarsko)
DTSTAMP:20260420T102236Z
DTSTART:20260710T100000Z
DTEND:20260715T215900Z
URL;VALUE=URI:https://www.sudokualogika.cz/node/3006
END:VEVENT
BEGIN:VEVENT
UID:calendar.3007.field_datumakce.0.8
SUMMARY:Puzzle GP 7 (USA)
DTSTAMP:20260420T102236Z
DTSTART:20260724T100000Z
DTEND:20260729T215900Z
URL;VALUE=URI:https://www.sudokualogika.cz/node/3007
END:VEVENT
BEGIN:VEVENT
UID:calendar.3008.field_datumakce.0.9
SUMMARY:Sudoku GP 8 (Francie)
DTSTAMP:20260420T102236Z
DTSTART:20260807T100000Z
DTEND:20260812T215900Z
URL;VALUE=URI:https://www.sudokualogika.cz/node/3008
END:VEVENT
BEGIN:VEVENT
UID:calendar.3009.field_datumakce.0.10
SUMMARY:Puzzle GP 8 (Indie)
DTSTAMP:20260420T102236Z
DTSTART:20260821T100000Z
DTEND:20260826T215900Z
URL;VALUE=URI:https://www.sudokualogika.cz/node/3009
END:VEVENT
END:VCALENDAR
